Package: IdeoViz Version: 1.42.0 Command: /home/biocbuild/R/R/bin/R CMD check --install=check:IdeoViz.install-out.txt --library=/home/biocbuild/R/R/site-library --no-vignettes --timings IdeoViz_1.42.0.tar.gz StartedAt: 2025-02-04 07:58:42 -0000 (Tue, 04 Feb 2025) EndedAt: 2025-02-04 08:02:54 -0000 (Tue, 04 Feb 2025) EllapsedTime: 251.3 seconds RetCode: 0 Status: WARNINGS CheckDir: IdeoViz.Rcheck Warnings: 2