Package: IgGeneUsage Version: 1.20.0 Command: rm -rf IgGeneUsage.buildbin-libdir && mkdir IgGeneUsage.buildbin-libdir && /Users/biocbuild/BBS/utils/build-universal.sh IgGeneUsage_1.20.0.tar.gz /Library/Frameworks/R.framework/Resources/bin/R IgGeneUsage.buildbin-libdir StartedAt: 2025-02-05 16:16:08 -0500 (Wed, 05 Feb 2025) EndedAt: 2025-02-05 16:25:01 -0500 (Wed, 05 Feb 2025) EllapsedTime: 533.3 seconds RetCode: 0 Status: OK PackageFile: IgGeneUsage_1.20.0.tgz PackageFileSize: 2.975 MiB