Package: IgGeneUsage Version: 1.20.0 Command: /Library/Frameworks/R.framework/Resources/bin/R CMD build --keep-empty-dirs --no-resave-data IgGeneUsage StartedAt: 2025-02-04 01:42:05 -0500 (Tue, 04 Feb 2025) EndedAt: 2025-02-04 01:57:41 -0500 (Tue, 04 Feb 2025) EllapsedTime: 935.7 seconds RetCode: 0 Status: OK PackageFile: IgGeneUsage_1.20.0.tar.gz PackageFileSize: 1.208 MiB