Package: IgGeneUsage Version: 1.20.0 Command: rm -rf IgGeneUsage.buildbin-libdir && mkdir IgGeneUsage.buildbin-libdir && /Users/biocbuild/BBS/utils/build-universal.sh IgGeneUsage_1.20.0.tar.gz /Library/Frameworks/R.framework/Resources/bin/R IgGeneUsage.buildbin-libdir StartedAt: 2024-11-20 04:32:10 -0500 (Wed, 20 Nov 2024) EndedAt: 2024-11-20 04:43:39 -0500 (Wed, 20 Nov 2024) EllapsedTime: 688.3 seconds RetCode: 0 Status: OK PackageFile: IgGeneUsage_1.20.0.tgz PackageFileSize: 3.271 MiB