Package: IgGeneUsage Version: 1.20.0 Command: rm -rf IgGeneUsage.buildbin-libdir && mkdir IgGeneUsage.buildbin-libdir && /Users/biocbuild/BBS/utils/build-universal.sh IgGeneUsage_1.20.0.tar.gz /Library/Frameworks/R.framework/Resources/bin/R IgGeneUsage.buildbin-libdir StartedAt: 2025-02-11 13:30:55 -0500 (Tue, 11 Feb 2025) EndedAt: 2025-02-11 13:58:55 -0500 (Tue, 11 Feb 2025) EllapsedTime: 1679.2 seconds RetCode: 0 Status: OK PackageFile: IgGeneUsage_1.20.0.tgz PackageFileSize: 3.268 MiB