Package: IgGeneUsage Version: 1.20.0 Command: /home/biocbuild/bbs-3.20-bioc/R/bin/R CMD INSTALL IgGeneUsage StartedAt: 2025-02-10 15:21:19 -0500 (Mon, 10 Feb 2025) EndedAt: 2025-02-10 15:31:37 -0500 (Mon, 10 Feb 2025) EllapsedTime: 618.0 seconds RetCode: 0 Status: OK