Package: IgGeneUsage Version: 1.20.0 Command: rm -rf IgGeneUsage.buildbin-libdir && mkdir IgGeneUsage.buildbin-libdir && F:\biocbuild\bbs-3.20-bioc\R\bin\R.exe CMD INSTALL --build --library=IgGeneUsage.buildbin-libdir IgGeneUsage_1.20.0.tar.gz StartedAt: 2025-02-11 08:40:22 -0500 (Tue, 11 Feb 2025) EndedAt: 2025-02-11 09:02:20 -0500 (Tue, 11 Feb 2025) EllapsedTime: 1318.3 seconds RetCode: 0 Status: OK PackageFile: IgGeneUsage_1.20.0.zip PackageFileSize: 2.514 MiB