Package: IgGeneUsage Version: 1.20.0 Command: chmod a+r IgGeneUsage -R && F:\biocbuild\bbs-3.20-bioc\R\bin\R.exe CMD build --keep-empty-dirs --no-resave-data IgGeneUsage StartedAt: 2025-02-03 19:49:49 -0500 (Mon, 03 Feb 2025) EndedAt: 2025-02-03 20:12:00 -0500 (Mon, 03 Feb 2025) EllapsedTime: 1331.0 seconds RetCode: 0 Status: OK PackageFile: IgGeneUsage_1.20.0.tar.gz PackageFileSize: 601.3 KiB