Package: IgGeneUsage Version: 1.20.0 Command: /home/biocbuild/R/R/bin/R CMD build --keep-empty-dirs --no-resave-data IgGeneUsage StartedAt: 2025-02-11 00:12:50 -0000 (Tue, 11 Feb 2025) EndedAt: 2025-02-11 00:35:27 -0000 (Tue, 11 Feb 2025) EllapsedTime: 1357.6 seconds RetCode: 0 Status: OK PackageFile: IgGeneUsage_1.20.0.tar.gz PackageFileSize: 793.3 KiB