Package: InTAD Version: 1.26.0 Command: rm -rf InTAD.buildbin-libdir && mkdir InTAD.buildbin-libdir && /Users/biocbuild/BBS/utils/build-universal.sh InTAD_1.26.0.tar.gz /Library/Frameworks/R.framework/Resources/bin/R InTAD.buildbin-libdir StartedAt: 2025-02-05 16:18:20 -0500 (Wed, 05 Feb 2025) EndedAt: 2025-02-05 16:19:06 -0500 (Wed, 05 Feb 2025) EllapsedTime: 46.7 seconds RetCode: 0 Status: OK PackageFile: InTAD_1.26.0.tgz PackageFileSize: 1.479 MiB