Package: InTAD Version: 1.26.0 Command: rm -rf InTAD.buildbin-libdir && mkdir InTAD.buildbin-libdir && /Users/biocbuild/BBS/utils/build-universal.sh InTAD_1.26.0.tar.gz /Library/Frameworks/R.framework/Resources/bin/R InTAD.buildbin-libdir StartedAt: 2025-01-31 13:00:37 -0500 (Fri, 31 Jan 2025) EndedAt: 2025-01-31 13:01:57 -0500 (Fri, 31 Jan 2025) EllapsedTime: 79.5 seconds RetCode: 0 Status: OK PackageFile: InTAD_1.26.0.tgz PackageFileSize: 1.479 MiB