Package: InTAD Version: 1.26.0 Command: /home/biocbuild/bbs-3.20-bioc/R/bin/R CMD build --keep-empty-dirs --no-resave-data --md5 InTAD StartedAt: 2025-02-03 17:54:02 -0500 (Mon, 03 Feb 2025) EndedAt: 2025-02-03 17:54:57 -0500 (Mon, 03 Feb 2025) EllapsedTime: 55.1 seconds RetCode: 0 Status: OK PackageFile: InTAD_1.26.0.tar.gz PackageFileSize: 1.186 MiB