Package: InTAD Version: 1.26.0 Command: rm -rf InTAD.buildbin-libdir && mkdir InTAD.buildbin-libdir && F:\biocbuild\bbs-3.20-bioc\R\bin\R.exe CMD INSTALL --build --library=InTAD.buildbin-libdir InTAD_1.26.0.tar.gz StartedAt: 2025-02-04 08:44:48 -0500 (Tue, 04 Feb 2025) EndedAt: 2025-02-04 08:45:39 -0500 (Tue, 04 Feb 2025) EllapsedTime: 50.9 seconds RetCode: 0 Status: OK PackageFile: InTAD_1.26.0.zip PackageFileSize: 1.146 MiB