Package: InTAD Version: 1.26.0 Command: chmod a+r InTAD -R && F:\biocbuild\bbs-3.20-bioc\R\bin\R.exe CMD build --keep-empty-dirs --no-resave-data InTAD StartedAt: 2025-01-30 19:39:01 -0500 (Thu, 30 Jan 2025) EndedAt: 2025-01-30 19:40:15 -0500 (Thu, 30 Jan 2025) EllapsedTime: 73.7 seconds RetCode: 0 Status: OK PackageFile: InTAD_1.26.0.tar.gz PackageFileSize: 902.7 KiB