Package: InTAD Version: 1.26.0 Command: F:\biocbuild\bbs-3.20-bioc\R\bin\R.exe CMD check --no-multiarch --install=check:InTAD.install-out.txt --library=F:\biocbuild\bbs-3.20-bioc\R\library --no-vignettes --timings InTAD_1.26.0.tar.gz StartedAt: 2025-02-04 02:56:19 -0500 (Tue, 04 Feb 2025) EndedAt: 2025-02-04 03:02:27 -0500 (Tue, 04 Feb 2025) EllapsedTime: 367.8 seconds RetCode: 0 Status: OK CheckDir: InTAD.Rcheck Warnings: 0