Package: InTAD Version: 1.26.0 Command: /home/biocbuild/R/R/bin/R CMD build --keep-empty-dirs --no-resave-data InTAD StartedAt: 2025-02-04 00:25:00 -0000 (Tue, 04 Feb 2025) EndedAt: 2025-02-04 00:26:19 -0000 (Tue, 04 Feb 2025) EllapsedTime: 79.0 seconds RetCode: 0 Status: OK PackageFile: InTAD_1.26.0.tar.gz PackageFileSize: 966.7 KiB