Package: IntEREst Version: 1.30.0 Command: /Library/Frameworks/R.framework/Resources/bin/R CMD build --keep-empty-dirs --no-resave-data IntEREst StartedAt: 2025-02-03 19:47:31 -0500 (Mon, 03 Feb 2025) EndedAt: 2025-02-03 19:51:37 -0500 (Mon, 03 Feb 2025) EllapsedTime: 246.1 seconds RetCode: 0 Status: OK PackageFile: IntEREst_1.30.0.tar.gz PackageFileSize: 1.438 MiB