Package: IntEREst Version: 1.30.0 Command: /Library/Frameworks/R.framework/Resources/bin/R CMD INSTALL IntEREst StartedAt: 2025-02-10 16:23:13 -0500 (Mon, 10 Feb 2025) EndedAt: 2025-02-10 16:25:05 -0500 (Mon, 10 Feb 2025) EllapsedTime: 112.0 seconds RetCode: 0 Status: OK