Package: IntEREst Version: 1.30.0 Command: /home/biocbuild/R/R/bin/R CMD build --keep-empty-dirs --no-resave-data IntEREst StartedAt: 2025-02-04 00:26:19 -0000 (Tue, 04 Feb 2025) EndedAt: 2025-02-04 00:28:18 -0000 (Tue, 04 Feb 2025) EllapsedTime: 119.0 seconds RetCode: 0 Status: OK PackageFile: IntEREst_1.30.0.tar.gz PackageFileSize: 1.338 MiB