Package: InterCellar Version: 2.12.0 Command: rm -rf InterCellar.buildbin-libdir && mkdir InterCellar.buildbin-libdir && /Users/biocbuild/BBS/utils/build-universal.sh InterCellar_2.12.0.tar.gz /Library/Frameworks/R.framework/Resources/bin/R InterCellar.buildbin-libdir StartedAt: 2025-02-05 16:19:21 -0500 (Wed, 05 Feb 2025) EndedAt: 2025-02-05 16:19:56 -0500 (Wed, 05 Feb 2025) EllapsedTime: 35.0 seconds RetCode: 0 Status: OK PackageFile: InterCellar_2.12.0.tgz PackageFileSize: 3.172 MiB