Package: InterCellar Version: 2.12.0 Command: /Library/Frameworks/R.framework/Resources/bin/R CMD INSTALL InterCellar StartedAt: 2025-02-03 18:12:34 -0500 (Mon, 03 Feb 2025) EndedAt: 2025-02-03 18:13:07 -0500 (Mon, 03 Feb 2025) EllapsedTime: 32.3 seconds RetCode: 0 Status: OK