Package: InterCellar Version: 2.12.0 Command: /home/biocbuild/bbs-3.20-bioc/R/bin/R CMD INSTALL InterCellar StartedAt: 2025-01-30 16:00:35 -0500 (Thu, 30 Jan 2025) EndedAt: 2025-01-30 16:01:03 -0500 (Thu, 30 Jan 2025) EllapsedTime: 27.8 seconds RetCode: 0 Status: OK