Package: InterCellar Version: 2.12.0 Command: rm -rf InterCellar.buildbin-libdir && mkdir InterCellar.buildbin-libdir && F:\biocbuild\bbs-3.20-bioc\R\bin\R.exe CMD INSTALL --build --library=InterCellar.buildbin-libdir InterCellar_2.12.0.tar.gz StartedAt: 2025-01-31 08:52:59 -0500 (Fri, 31 Jan 2025) EndedAt: 2025-01-31 08:54:15 -0500 (Fri, 31 Jan 2025) EllapsedTime: 76.0 seconds RetCode: 0 Status: OK PackageFile: InterCellar_2.12.0.zip PackageFileSize: 3.165 MiB