Package: InterCellar Version: 2.12.0 Command: F:\biocbuild\bbs-3.20-bioc\R\bin\R.exe CMD check --no-multiarch --install=check:InterCellar.install-out.txt --library=F:\biocbuild\bbs-3.20-bioc\R\library --no-vignettes --timings InterCellar_2.12.0.tar.gz StartedAt: 2025-01-31 03:09:14 -0500 (Fri, 31 Jan 2025) EndedAt: 2025-01-31 03:12:45 -0500 (Fri, 31 Jan 2025) EllapsedTime: 210.6 seconds RetCode: 0 Status: OK CheckDir: InterCellar.Rcheck Warnings: 0