Package: InterCellar Version: 2.12.0 Command: /home/biocbuild/R/R/bin/R CMD build --keep-empty-dirs --no-resave-data InterCellar StartedAt: 2025-01-31 00:26:13 -0000 (Fri, 31 Jan 2025) EndedAt: 2025-01-31 00:27:01 -0000 (Fri, 31 Jan 2025) EllapsedTime: 48.0 seconds RetCode: 0 Status: OK PackageFile: InterCellar_2.12.0.tar.gz PackageFileSize: 4.078 MiB