Package: InterCellar Version: 2.12.0 Command: /home/biocbuild/R/R/bin/R CMD INSTALL InterCellar StartedAt: 2025-02-03 21:22:21 -0000 (Mon, 03 Feb 2025) EndedAt: 2025-02-03 21:22:57 -0000 (Mon, 03 Feb 2025) EllapsedTime: 35.9 seconds RetCode: 0 Status: OK