Package: InteractiveComplexHeatmap Version: 1.14.0 Command: /Library/Frameworks/R.framework/Resources/bin/R CMD build --keep-empty-dirs --no-resave-data InteractiveComplexHeatmap StartedAt: 2025-02-04 01:57:41 -0500 (Tue, 04 Feb 2025) EndedAt: 2025-02-04 01:58:31 -0500 (Tue, 04 Feb 2025) EllapsedTime: 49.8 seconds RetCode: 0 Status: OK PackageFile: InteractiveComplexHeatmap_1.14.0.tar.gz PackageFileSize: 968.7 KiB