Package: InteractiveComplexHeatmap Version: 1.14.0 Command: rm -rf InteractiveComplexHeatmap.buildbin-libdir && mkdir InteractiveComplexHeatmap.buildbin-libdir && /Users/biocbuild/BBS/utils/build-universal.sh InteractiveComplexHeatmap_1.14.0.tar.gz /Library/Frameworks/R.framework/Resources/bin/R InteractiveComplexHeatmap.buildbin-libdir StartedAt: 2025-02-04 13:11:48 -0500 (Tue, 04 Feb 2025) EndedAt: 2025-02-04 13:12:29 -0500 (Tue, 04 Feb 2025) EllapsedTime: 41.8 seconds RetCode: 0 Status: OK PackageFile: InteractiveComplexHeatmap_1.14.0.tgz PackageFileSize: 1.153 MiB