Package: InteractiveComplexHeatmap Version: 1.14.0 Command: /home/biocbuild/bbs-3.20-bioc/R/bin/R CMD INSTALL InteractiveComplexHeatmap StartedAt: 2025-02-03 15:40:18 -0500 (Mon, 03 Feb 2025) EndedAt: 2025-02-03 15:40:31 -0500 (Mon, 03 Feb 2025) EllapsedTime: 13.1 seconds RetCode: 0 Status: OK