Package: IntramiRExploreR Version: 1.28.0 Command: /Library/Frameworks/R.framework/Resources/bin/R CMD check --install=check:IntramiRExploreR.install-out.txt --library=/Library/Frameworks/R.framework/Resources/library --no-vignettes --timings IntramiRExploreR_1.28.0.tar.gz StartedAt: 2024-11-09 05:14:09 -0500 (Sat, 09 Nov 2024) EndedAt: 2024-11-09 05:18:14 -0500 (Sat, 09 Nov 2024) EllapsedTime: 244.4 seconds RetCode: 0 Status: WARNINGS CheckDir: IntramiRExploreR.Rcheck Warnings: 2