Package: IntramiRExploreR Version: 1.28.0 Command: rm -rf IntramiRExploreR.buildbin-libdir && mkdir IntramiRExploreR.buildbin-libdir && /Users/biocbuild/BBS/utils/build-universal.sh IntramiRExploreR_1.28.0.tar.gz /Library/Frameworks/R.framework/Resources/bin/R IntramiRExploreR.buildbin-libdir StartedAt: 2025-02-04 13:12:20 -0500 (Tue, 04 Feb 2025) EndedAt: 2025-02-04 13:12:57 -0500 (Tue, 04 Feb 2025) EllapsedTime: 36.3 seconds RetCode: 0 Status: OK PackageFile: IntramiRExploreR_1.28.0.tgz PackageFileSize: 13.09 MiB