Package: IntramiRExploreR Version: 1.28.0 Command: F:\biocbuild\bbs-3.20-bioc\R\bin\R.exe CMD INSTALL IntramiRExploreR StartedAt: 2025-02-10 15:40:47 -0500 (Mon, 10 Feb 2025) EndedAt: 2025-02-10 15:41:23 -0500 (Mon, 10 Feb 2025) EllapsedTime: 35.6 seconds RetCode: 0 Status: OK