Package: IntramiRExploreR Version: 1.28.0 Command: /home/biocbuild/R/R/bin/R CMD INSTALL IntramiRExploreR StartedAt: 2025-02-03 20:34:40 -0000 (Mon, 03 Feb 2025) EndedAt: 2025-02-03 20:34:55 -0000 (Mon, 03 Feb 2025) EllapsedTime: 15.0 seconds RetCode: 0 Status: OK