Package: IsoBayes Version: 1.4.0 Command: /Library/Frameworks/R.framework/Resources/bin/R CMD build --keep-empty-dirs --no-resave-data IsoBayes StartedAt: 2025-02-04 02:05:47 -0500 (Tue, 04 Feb 2025) EndedAt: 2025-02-04 02:08:18 -0500 (Tue, 04 Feb 2025) EllapsedTime: 151.0 seconds RetCode: 0 Status: OK PackageFile: IsoBayes_1.4.0.tar.gz PackageFileSize: 1.653 MiB