Package: IsoBayes Version: 1.4.0 Command: /Library/Frameworks/R.framework/Resources/bin/R CMD INSTALL IsoBayes StartedAt: 2025-02-03 16:14:16 -0500 (Mon, 03 Feb 2025) EndedAt: 2025-02-03 16:15:04 -0500 (Mon, 03 Feb 2025) EllapsedTime: 47.4 seconds RetCode: 0 Status: OK