Package: IsoBayes Version: 1.4.0 Command: /Library/Frameworks/R.framework/Resources/bin/R CMD INSTALL IsoBayes StartedAt: 2025-01-30 15:46:15 -0500 (Thu, 30 Jan 2025) EndedAt: 2025-01-30 15:47:55 -0500 (Thu, 30 Jan 2025) EllapsedTime: 100.1 seconds RetCode: 0 Status: OK