Package: IsoBayes Version: 1.4.0 Command: /home/biocbuild/bbs-3.20-bioc/R/bin/R CMD check --install=check:IsoBayes.install-out.txt --library=/home/biocbuild/bbs-3.20-bioc/R/site-library --timings IsoBayes_1.4.0.tar.gz StartedAt: 2025-02-03 23:30:43 -0500 (Mon, 03 Feb 2025) EndedAt: 2025-02-03 23:37:18 -0500 (Mon, 03 Feb 2025) EllapsedTime: 394.5 seconds RetCode: 0 Status: OK CheckDir: IsoBayes.Rcheck Warnings: 0