Package: IsoBayes Version: 1.4.0 Command: /home/biocbuild/R/R/bin/R CMD build --keep-empty-dirs --no-resave-data IsoBayes StartedAt: 2025-02-04 00:29:27 -0000 (Tue, 04 Feb 2025) EndedAt: 2025-02-04 00:32:07 -0000 (Tue, 04 Feb 2025) EllapsedTime: 160.1 seconds RetCode: 0 Status: OK PackageFile: IsoBayes_1.4.0.tar.gz PackageFileSize: 1.673 MiB