Package: IsoBayes Version: 1.4.0 Command: /home/biocbuild/R/R/bin/R CMD check --install=check:IsoBayes.install-out.txt --library=/home/biocbuild/R/R/site-library --no-vignettes --timings IsoBayes_1.4.0.tar.gz StartedAt: 2025-02-04 08:11:25 -0000 (Tue, 04 Feb 2025) EndedAt: 2025-02-04 08:18:40 -0000 (Tue, 04 Feb 2025) EllapsedTime: 434.6 seconds RetCode: 0 Status: OK CheckDir: IsoBayes.Rcheck Warnings: 0