Package: IsoCorrectoRGUI Version: 1.22.0 Command: rm -rf IsoCorrectoRGUI.buildbin-libdir && mkdir IsoCorrectoRGUI.buildbin-libdir && /Users/biocbuild/BBS/utils/build-universal.sh IsoCorrectoRGUI_1.22.0.tar.gz /Library/Frameworks/R.framework/Resources/bin/R IsoCorrectoRGUI.buildbin-libdir StartedAt: 2025-02-05 16:22:16 -0500 (Wed, 05 Feb 2025) EndedAt: 2025-02-05 16:22:24 -0500 (Wed, 05 Feb 2025) EllapsedTime: 7.9 seconds RetCode: 0 Status: OK PackageFile: IsoCorrectoRGUI_1.22.0.tgz PackageFileSize: 455.7 KiB