Package: IsoCorrectoRGUI Version: 1.22.0 Command: /Library/Frameworks/R.framework/Resources/bin/R CMD INSTALL IsoCorrectoRGUI StartedAt: 2025-02-10 15:11:59 -0500 (Mon, 10 Feb 2025) EndedAt: 2025-02-10 15:12:15 -0500 (Mon, 10 Feb 2025) EllapsedTime: 16.0 seconds RetCode: 0 Status: OK