Package: IsoCorrectoRGUI Version: 1.22.0 Command: /home/biocbuild/bbs-3.20-bioc/R/bin/R CMD build --keep-empty-dirs --no-resave-data --md5 IsoCorrectoRGUI StartedAt: 2025-01-30 17:47:45 -0500 (Thu, 30 Jan 2025) EndedAt: 2025-01-30 17:47:53 -0500 (Thu, 30 Jan 2025) EllapsedTime: 8.0 seconds RetCode: 0 Status: OK PackageFile: IsoCorrectoRGUI_1.22.0.tar.gz PackageFileSize: 441.8 KiB