Package: IsoCorrectoRGUI Version: 1.22.0 Command: /home/biocbuild/bbs-3.20-bioc/R/bin/R CMD INSTALL IsoCorrectoRGUI StartedAt: 2025-01-30 15:09:39 -0500 (Thu, 30 Jan 2025) EndedAt: 2025-01-30 15:09:51 -0500 (Thu, 30 Jan 2025) EllapsedTime: 11.6 seconds RetCode: 0 Status: OK