Package: IsoCorrectoRGUI Version: 1.22.0 Command: /home/biocbuild/R/R/bin/R CMD build --keep-empty-dirs --no-resave-data IsoCorrectoRGUI StartedAt: 2025-01-31 00:29:25 -0000 (Fri, 31 Jan 2025) EndedAt: 2025-01-31 00:29:34 -0000 (Fri, 31 Jan 2025) EllapsedTime: 9.0 seconds RetCode: 0 Status: OK PackageFile: IsoCorrectoRGUI_1.22.0.tar.gz PackageFileSize: 464.2 KiB