Package: IsoformSwitchAnalyzeR Version: 2.6.0 Command: rm -rf IsoformSwitchAnalyzeR.buildbin-libdir && mkdir IsoformSwitchAnalyzeR.buildbin-libdir && /Users/biocbuild/BBS/utils/build-universal.sh IsoformSwitchAnalyzeR_2.6.0.tar.gz /Library/Frameworks/R.framework/Resources/bin/R IsoformSwitchAnalyzeR.buildbin-libdir StartedAt: 2025-02-05 16:22:23 -0500 (Wed, 05 Feb 2025) EndedAt: 2025-02-05 16:23:46 -0500 (Wed, 05 Feb 2025) EllapsedTime: 83.0 seconds RetCode: 0 Status: OK PackageFile: IsoformSwitchAnalyzeR_2.6.0.tgz PackageFileSize: 7.387 MiB