Package: IsoformSwitchAnalyzeR Version: 2.6.0 Command: rm -rf IsoformSwitchAnalyzeR.buildbin-libdir && mkdir IsoformSwitchAnalyzeR.buildbin-libdir && F:\biocbuild\bbs-3.20-bioc\R\bin\R.exe CMD INSTALL --build --library=IsoformSwitchAnalyzeR.buildbin-libdir IsoformSwitchAnalyzeR_2.6.0.tar.gz StartedAt: 2025-02-04 08:46:40 -0500 (Tue, 04 Feb 2025) EndedAt: 2025-02-04 08:52:53 -0500 (Tue, 04 Feb 2025) EllapsedTime: 372.5 seconds RetCode: 0 Status: OK PackageFile: IsoformSwitchAnalyzeR_2.6.0.zip PackageFileSize: 5.257 MiB