Package: IsoformSwitchAnalyzeR Version: 2.6.0 Command: F:\biocbuild\bbs-3.20-bioc\R\bin\R.exe CMD INSTALL IsoformSwitchAnalyzeR StartedAt: 2025-02-10 16:48:12 -0500 (Mon, 10 Feb 2025) EndedAt: 2025-02-10 16:51:49 -0500 (Mon, 10 Feb 2025) EllapsedTime: 217.2 seconds RetCode: 0 Status: OK