Package: KBoost Version: 1.14.0 Command: /Library/Frameworks/R.framework/Resources/bin/R CMD INSTALL KBoost StartedAt: 2025-02-03 15:09:21 -0500 (Mon, 03 Feb 2025) EndedAt: 2025-02-03 15:09:24 -0500 (Mon, 03 Feb 2025) EllapsedTime: 2.7 seconds RetCode: 0 Status: OK