Package: KBoost Version: 1.14.0 Command: chmod a+r KBoost -R && F:\biocbuild\bbs-3.20-bioc\R\bin\R.exe CMD build --keep-empty-dirs --no-resave-data KBoost StartedAt: 2025-02-03 19:59:43 -0500 (Mon, 03 Feb 2025) EndedAt: 2025-02-03 19:59:59 -0500 (Mon, 03 Feb 2025) EllapsedTime: 16.5 seconds RetCode: 0 Status: OK PackageFile: KBoost_1.14.0.tar.gz PackageFileSize: 503.9 KiB