Package: KBoost Version: 1.14.0 Command: /home/biocbuild/R/R/bin/R CMD check --install=check:KBoost.install-out.txt --library=/home/biocbuild/R/R/site-library --no-vignettes --timings KBoost_1.14.0.tar.gz StartedAt: 2025-02-11 07:29:28 -0000 (Tue, 11 Feb 2025) EndedAt: 2025-02-11 07:30:08 -0000 (Tue, 11 Feb 2025) EllapsedTime: 40.0 seconds RetCode: 0 Status: OK CheckDir: KBoost.Rcheck Warnings: 0